BEGIN:VCALENDAR
VERSION:2.0
PRODID:http://sankt-sebastian-wuerselen.de
BEGIN:VEVENT
UID:fc8a5c9e-1ec6-11f1-8a7f-0242ac11002b-1776614400000-de
DTSTAMP:20260313T102541Z
DTSTART:20260419T160000Z
SUMMARY;LANGUAGE=de:Abendgottesdienst - „Auferstehungsgeschichten“ mit Worship-Music
DESCRIPTION;LANGUAGE=de:Pius’Zeit lädt ein zu einem Abendgottesdienst in der Osterzeit. "Auferstehungsgeschichten" werden uns erzählt als Widerstand gegen den Tod. Die Worship-Musik kommt von Franz Grümmer\, Stolberg.\nGestaltet wird der Gottesdienst von Andrea Frölich\, Gertrud Schaffeldt\, Franz-Josef Schümmer und Hannes Peters
IMAGE;VALUE=URI;DISPLAY=BADGE;FMTTYPE=image/jpeg:http://sankt-sebastian-wuerselen.de/export/sites/region-aachen-land/pfarrei-sebastian-wuerselen/.galleries/St.-Pius-X./Pius-Altar.jpg
END:VEVENT
END:VCALENDAR
