BEGIN:VCALENDAR
VERSION:2.0
PRODID:http://sankt-sebastian-wuerselen.de
BEGIN:VEVENT
UID:ca448f05-1ec4-11f1-8a7f-0242ac11002b-1776879000000-de
DTSTAMP:20260313T100958Z
DTSTART:20260422T173000Z
SUMMARY;LANGUAGE=de:Wie die Medien die Demokratie schützen
DESCRIPTION;LANGUAGE=de:Vortrag und Gespräch
IMAGE;VALUE=URI;DISPLAY=BADGE;FMTTYPE=image/jpeg:http://sankt-sebastian-wuerselen.de/export/sites/region-aachen-land/pfarrei-sebastian-wuerselen/piuszeit/.galleries/bilder/wahtsapp-Foto.jpeg
END:VEVENT
END:VCALENDAR
